BEGIN:VCALENDAR
VERSION:2.0
PRODID:-//Angelsportverein Dörpen e.V. - ECPv6.15.18//NONSGML v1.0//EN
CALSCALE:GREGORIAN
METHOD:PUBLISH
X-ORIGINAL-URL:https://www.asv-doerpen.de
X-WR-CALDESC:Veranstaltungen für Angelsportverein Dörpen e.V.
REFRESH-INTERVAL;VALUE=DURATION:PT1H
X-Robots-Tag:noindex
X-PUBLISHED-TTL:PT1H
BEGIN:VTIMEZONE
TZID:Europe/Berlin
BEGIN:DAYLIGHT
TZOFFSETFROM:+0100
TZOFFSETTO:+0200
TZNAME:CEST
DTSTART:20260329T010000
END:DAYLIGHT
BEGIN:STANDARD
TZOFFSETFROM:+0200
TZOFFSETTO:+0100
TZNAME:CET
DTSTART:20261025T010000
END:STANDARD
BEGIN:DAYLIGHT
TZOFFSETFROM:+0100
TZOFFSETTO:+0200
TZNAME:CEST
DTSTART:20270328T010000
END:DAYLIGHT
BEGIN:STANDARD
TZOFFSETFROM:+0200
TZOFFSETTO:+0100
TZNAME:CET
DTSTART:20271031T010000
END:STANDARD
BEGIN:DAYLIGHT
TZOFFSETFROM:+0100
TZOFFSETTO:+0200
TZNAME:CEST
DTSTART:20280326T010000
END:DAYLIGHT
BEGIN:STANDARD
TZOFFSETFROM:+0200
TZOFFSETTO:+0100
TZNAME:CET
DTSTART:20281029T010000
END:STANDARD
END:VTIMEZONE
BEGIN:VEVENT
DTSTART;TZID=Europe/Berlin:20270226T193000
DTEND;TZID=Europe/Berlin:20270226T233000
DTSTAMP:20260425T024206
CREATED:20191108T150838Z
LAST-MODIFIED:20260302T164406Z
UID:2370-1803670200-1803684600@www.asv-doerpen.de
SUMMARY:Doppelkopfabend
DESCRIPTION:
URL:https://www.asv-doerpen.de/event/doppelkopfabend
LOCATION:Vereinsgaststätte Westhus\, Heeder Straße 66\, Dörpen\, Niedersachsen\, 26892\, Deutschland
END:VEVENT
END:VCALENDAR