BEGIN:VCALENDAR
VERSION:2.0
PRODID:-//Angelsportverein Dörpen e.V. - ECPv6.15.18//NONSGML v1.0//EN
CALSCALE:GREGORIAN
METHOD:PUBLISH
X-ORIGINAL-URL:https://www.asv-doerpen.de
X-WR-CALDESC:Veranstaltungen für Angelsportverein Dörpen e.V.
REFRESH-INTERVAL;VALUE=DURATION:PT1H
X-Robots-Tag:noindex
X-PUBLISHED-TTL:PT1H
BEGIN:VTIMEZONE
TZID:Europe/Berlin
BEGIN:DAYLIGHT
TZOFFSETFROM:+0100
TZOFFSETTO:+0200
TZNAME:CEST
DTSTART:20250330T010000
END:DAYLIGHT
BEGIN:STANDARD
TZOFFSETFROM:+0200
TZOFFSETTO:+0100
TZNAME:CET
DTSTART:20251026T010000
END:STANDARD
BEGIN:DAYLIGHT
TZOFFSETFROM:+0100
TZOFFSETTO:+0200
TZNAME:CEST
DTSTART:20260329T010000
END:DAYLIGHT
BEGIN:STANDARD
TZOFFSETFROM:+0200
TZOFFSETTO:+0100
TZNAME:CET
DTSTART:20261025T010000
END:STANDARD
BEGIN:DAYLIGHT
TZOFFSETFROM:+0100
TZOFFSETTO:+0200
TZNAME:CEST
DTSTART:20270328T010000
END:DAYLIGHT
BEGIN:STANDARD
TZOFFSETFROM:+0200
TZOFFSETTO:+0100
TZNAME:CET
DTSTART:20271031T010000
END:STANDARD
END:VTIMEZONE
BEGIN:VEVENT
DTSTART;TZID=Europe/Berlin:20260606T140000
DTEND;TZID=Europe/Berlin:20260606T170000
DTSTAMP:20260424T161002
CREATED:20191108T155205Z
LAST-MODIFIED:20260302T165252Z
UID:2398-1780754400-1780765200@www.asv-doerpen.de
SUMMARY:Seniorenangeln (ab 60 Jahre)
DESCRIPTION:Teilnahme nur ab dem 60. Lebensjahr \n 
URL:https://www.asv-doerpen.de/event/seniorenangeln
LOCATION:Haltung 5/6\, Montaniastraße\, Lehe\, Niedersachsen\, 26892\, Deutschland
END:VEVENT
BEGIN:VEVENT
DTSTART;TZID=Europe/Berlin:20260607T140000
DTEND;TZID=Europe/Berlin:20260607T170000
DTSTAMP:20260424T161002
CREATED:20191108T155405Z
LAST-MODIFIED:20260302T165227Z
UID:2400-1780840800-1780851600@www.asv-doerpen.de
SUMMARY:Frühlingsangeln
DESCRIPTION:Senioren ab 60 dürfen nicht teilnehmen. \nAbschlussveranstaltung anschließend beim Heimathaus.
URL:https://www.asv-doerpen.de/event/fruehlinsangeln
LOCATION:Haltung 5/6\, Montaniastraße\, Lehe\, Niedersachsen\, 26892\, Deutschland
END:VEVENT
BEGIN:VEVENT
DTSTART;TZID=Europe/Berlin:20260621T050000
DTEND;TZID=Europe/Berlin:20260621T110000
DTSTAMP:20260424T161002
CREATED:20191108T155510Z
LAST-MODIFIED:20260302T165148Z
UID:2402-1782018000-1782039600@www.asv-doerpen.de
SUMMARY:Königsangeln
DESCRIPTION:
URL:https://www.asv-doerpen.de/event/koenigsangeln
LOCATION:Treffpunkt: Marktplatz Dörpen\, Hauptstraße 3\, 26892\, Niedersachsen\, 26892\, Deutschland
END:VEVENT
BEGIN:VEVENT
DTSTART;TZID=Europe/Berlin:20260627T060000
DTEND;TZID=Europe/Berlin:20260627T110000
DTSTAMP:20260424T161002
CREATED:20250320T152900Z
LAST-MODIFIED:20260302T165118Z
UID:3107-1782540000-1782558000@www.asv-doerpen.de
SUMMARY:Jugendpokalangeln (Papenburg)
DESCRIPTION:
URL:https://www.asv-doerpen.de/event/jugendpokalangeln-rhede
END:VEVENT
END:VCALENDAR